BEGIN:VCALENDAR
VERSION:2.0
PRODID:-//wp-events-plugin.com//7.2.3.1//EN
TZID:Europe/Berlin
X-WR-TIMEZONE:Europe/Berlin
BEGIN:VEVENT
UID:214@gdcf-duesseldorf.de
DTSTART;TZID=Europe/Berlin:20220921T190000
DTEND;TZID=Europe/Berlin:20220921T190000
DTSTAMP:20220901T132243Z
URL:https://www.gdcf-duesseldorf.de/events/vortrag-2022-09-2
SUMMARY:Vortrag - Gefahr oder Chance
DESCRIPTION:
ATTACH;FMTTYPE=image/jpeg:https://www.gdcf-duesseldorf.de/wp-content/uploa
 ds/3d-vortrag-mit-flagge.jpg
CATEGORIES:Vortrag
LOCATION:Haus der Universität (Seminarraum 2)\, Schadowstr. 14\, Düsseldo
 rf\, 40212\, Deutschland
X-APPLE-STRUCTURED-LOCATION;VALUE=URI;X-ADDRESS=Schadowstr. 14\, Düsseldor
 f\, 40212\, Deutschland;X-APPLE-RADIUS=100;X-TITLE=Haus der Universität (
 Seminarraum 2):geo:0,0
END:VEVENT
BEGIN:VTIMEZONE
TZID:Europe/Berlin
X-LIC-LOCATION:Europe/Berlin
BEGIN:DAYLIGHT
DTSTART:20220327T030000
TZOFFSETFROM:+0100
TZOFFSETTO:+0200
TZNAME:CEST
END:DAYLIGHT
END:VTIMEZONE
END:VCALENDAR