BEGIN:VCALENDAR
VERSION:2.0
PRODID:-//wp-events-plugin.com//7.2.3.1//EN
TZID:Europe/Berlin
X-WR-TIMEZONE:Europe/Berlin
BEGIN:VEVENT
UID:210@gdcf-duesseldorf.de
DTSTART;TZID=Europe/Berlin:20220926T190000
DTEND;TZID=Europe/Berlin:20220926T190000
DTSTAMP:20220825T171717Z
URL:https://www.gdcf-duesseldorf.de/events/vortrag-2022-09-1
SUMMARY:Vortrag - Der Traum der roten Kammer – Ein buddhistischer Schlüs
 sel zum Verständnis des großen chinesischen Romans
DESCRIPTION:
ATTACH;FMTTYPE=image/jpeg:https://www.gdcf-duesseldorf.de/wp-content/uploa
 ds/3d-vortrag-mit-flagge.jpg
CATEGORIES:Literaturkreis,Vortrag
LOCATION:„Stadtfenster“ - Zentralbibliothek\, Konrad-Adenauer-Platz 1 (
 KAP1)\, Düsseldorf\, 40210\, Deutschland
X-APPLE-STRUCTURED-LOCATION;VALUE=URI;X-ADDRESS=Konrad-Adenauer-Platz 1 (KA
 P1)\, Düsseldorf\, 40210\, Deutschland;X-APPLE-RADIUS=100;X-TITLE=„Stad
 tfenster“ - Zentralbibliothek:geo:0,0
END:VEVENT
BEGIN:VTIMEZONE
TZID:Europe/Berlin
X-LIC-LOCATION:Europe/Berlin
BEGIN:DAYLIGHT
DTSTART:20220327T030000
TZOFFSETFROM:+0100
TZOFFSETTO:+0200
TZNAME:CEST
END:DAYLIGHT
END:VTIMEZONE
END:VCALENDAR