BEGIN:VCALENDAR
VERSION:2.0
PRODID:-//wp-events-plugin.com//7.2.3.1//EN
TZID:Europe/Berlin
X-WR-TIMEZONE:Europe/Berlin
BEGIN:VEVENT
UID:70@gdcf-duesseldorf.de
DTSTART;TZID=Europe/Berlin:20211117T193000
DTEND;TZID=Europe/Berlin:20211117T210000
DTSTAMP:20211027T115652Z
URL:https://www.gdcf-duesseldorf.de/events/vortrag-2021-11
SUMMARY:Vortrag - Reise entlang der Alten Seidenstraße von Xi'an bis Dunhu
 ang
DESCRIPTION:
ATTACH;FMTTYPE=image/jpeg:https://www.gdcf-duesseldorf.de/wp-content/uploa
 ds/3d-vortrag-mit-flagge.jpg
CATEGORIES:Vortrag
LOCATION:VHS Düsseldorf (Zentrum) (kostenfrei)\, Bertha-von-Suttner-Platz 
 1\, Saal 2\, Düsseldorf\, 40227\, Deutschland
X-APPLE-STRUCTURED-LOCATION;VALUE=URI;X-ADDRESS=Bertha-von-Suttner-Platz 1\
 , Saal 2\, Düsseldorf\, 40227\, Deutschland;X-APPLE-RADIUS=100;X-TITLE=VH
 S Düsseldorf (Zentrum) (kostenfrei):geo:0,0
END:VEVENT
BEGIN:VTIMEZONE
TZID:Europe/Berlin
X-LIC-LOCATION:Europe/Berlin
BEGIN:STANDARD
DTSTART:20211031T020000
TZOFFSETFROM:+0200
TZOFFSETTO:+0100
TZNAME:CET
END:STANDARD
END:VTIMEZONE
END:VCALENDAR