BEGIN:VCALENDAR
VERSION:2.0
PRODID:-//wp-events-plugin.com//7.2.3.1//EN
TZID:Europe/Berlin
X-WR-TIMEZONE:Europe/Berlin
BEGIN:VEVENT
UID:68@gdcf-duesseldorf.de
DTSTART;TZID=Europe/Berlin:20210922T193000
DTEND;TZID=Europe/Berlin:20210922T210000
DTSTAMP:20210928T114237Z
URL:https://www.gdcf-duesseldorf.de/events/vortrag-2021-09
SUMMARY:Vortrag - "Gelbe Gefahr" gestern und heute
DESCRIPTION:
ATTACH;FMTTYPE=image/jpeg:https://www.gdcf-duesseldorf.de/wp-content/uploa
 ds/3d-vortrag-mit-flagge.jpg
CATEGORIES:Vortrag
LOCATION:VHS Düsseldorf (Zentrum)\, Bertha-von-Suttner-Platz 1\, Saal 2\, 
 Düsseldorf\, kostenfrei\, 40227\, Deutschland
X-APPLE-STRUCTURED-LOCATION;VALUE=URI;X-ADDRESS=Bertha-von-Suttner-Platz 1\
 , Saal 2\, Düsseldorf\, kostenfrei\, 40227\, Deutschland;X-APPLE-RADIUS=1
 00;X-TITLE=VHS Düsseldorf (Zentrum):geo:0,0
END:VEVENT
BEGIN:VTIMEZONE
TZID:Europe/Berlin
X-LIC-LOCATION:Europe/Berlin
BEGIN:DAYLIGHT
DTSTART:20210328T030000
TZOFFSETFROM:+0100
TZOFFSETTO:+0200
TZNAME:CEST
END:DAYLIGHT
END:VTIMEZONE
END:VCALENDAR