BEGIN:VCALENDAR
VERSION:2.0
PRODID:-//wp-events-plugin.com//7.2.3.1//EN
TZID:Europe/Berlin
X-WR-TIMEZONE:Europe/Berlin
BEGIN:VEVENT
UID:51@gdcf-duesseldorf.de
DTSTART;TZID=Europe/Berlin:20210113T190000
DTEND;TZID=Europe/Berlin:20210113T203000
DTSTAMP:20210218T091424Z
URL:https://www.gdcf-duesseldorf.de/events/vortrag-2021-01
SUMMARY:Online-Vortrag - „Klare Kante gegen China“?
DESCRIPTION:
ATTACH;FMTTYPE=image/jpeg:https://www.gdcf-duesseldorf.de/wp-content/uploa
 ds/3d-vortrag-mit-flagge.jpg
CATEGORIES:ADCG,Vortrag
LOCATION:Online-Veranstaltung\, via Webex / 使用 Webex\, www.webex.com\, 
 Bitte Veranstaltungstext (oben) beachten / 请注意(以上)活动详情\,
  Deutschland
X-APPLE-STRUCTURED-LOCATION;VALUE=URI;X-ADDRESS=via Webex / 使用 Webex\, 
 www.webex.com\, Bitte Veranstaltungstext (oben) beachten / 请注意(以
 上)活动详情\, Deutschland;X-APPLE-RADIUS=100;X-TITLE=Online-Veranstal
 tung:geo:0,0
END:VEVENT
BEGIN:VTIMEZONE
TZID:Europe/Berlin
X-LIC-LOCATION:Europe/Berlin
BEGIN:STANDARD
DTSTART:20201025T020000
TZOFFSETFROM:+0200
TZOFFSETTO:+0100
TZNAME:CET
END:STANDARD
END:VTIMEZONE
END:VCALENDAR