BEGIN:VCALENDAR
VERSION:2.0
PRODID:-//wp-events-plugin.com//7.2.3.1//EN
TZID:Europe/Berlin
X-WR-TIMEZONE:Europe/Berlin
BEGIN:VEVENT
UID:287@gdcf-duesseldorf.de
DTSTART;TZID=Europe/Berlin:20230318T173000
DTEND;TZID=Europe/Berlin:20230318T173000
DTSTAMP:20230216T155100Z
URL:https://www.gdcf-duesseldorf.de/events/spezialitaetenessen-2023-03
SUMMARY:Spezialitätenessen
DESCRIPTION:
ATTACH;FMTTYPE=image/jpeg:https://www.gdcf-duesseldorf.de/wp-content/uploa
 ds/3d-essen-mit-flagge.jpg
CATEGORIES:Essen
LOCATION:Chinarestaurant "China-Haus"\, Kölner Landstr. 115\, Düsseldorf\
 , Bitte Veranstaltungstext (oben) beachten / 请注意(以上)活动详情
 \, 40591\, Deutschland
X-APPLE-STRUCTURED-LOCATION;VALUE=URI;X-ADDRESS=Kölner Landstr. 115\, Düs
 seldorf\, Bitte Veranstaltungstext (oben) beachten / 请注意(以上)活
 动详情\, 40591\, Deutschland;X-APPLE-RADIUS=100;X-TITLE=Chinarestaurant
  \"China-Haus\":geo:0,0
END:VEVENT
BEGIN:VTIMEZONE
TZID:Europe/Berlin
X-LIC-LOCATION:Europe/Berlin
BEGIN:STANDARD
DTSTART:20221030T020000
TZOFFSETFROM:+0200
TZOFFSETTO:+0100
TZNAME:CET
END:STANDARD
END:VTIMEZONE
END:VCALENDAR