BEGIN:VCALENDAR
VERSION:2.0
PRODID:-//wp-events-plugin.com//7.2.3.1//EN
TZID:Europe/Berlin
X-WR-TIMEZONE:Europe/Berlin
BEGIN:VEVENT
UID:252@gdcf-duesseldorf.de
DTSTART;TZID=Europe/Berlin:20231026T180000
DTEND;TZID=Europe/Berlin:20231026T180000
DTSTAMP:20231023T050512Z
URL:https://www.gdcf-duesseldorf.de/events/probeessen-2023-10
SUMMARY:Probeessen / 美食品尝
DESCRIPTION:
ATTACH;FMTTYPE=image/jpeg:https://www.gdcf-duesseldorf.de/wp-content/uploa
 ds/hotpot.jpg
CATEGORIES:Essen
END:VEVENT
BEGIN:VTIMEZONE
TZID:Europe/Berlin
X-LIC-LOCATION:Europe/Berlin
BEGIN:DAYLIGHT
DTSTART:20230326T030000
TZOFFSETFROM:+0100
TZOFFSETTO:+0200
TZNAME:CEST
END:DAYLIGHT
END:VTIMEZONE
END:VCALENDAR