BEGIN:VCALENDAR
VERSION:2.0
PRODID:-//wp-events-plugin.com//7.2.3.1//EN
TZID:Europe/Berlin
X-WR-TIMEZONE:Europe/Berlin
BEGIN:VEVENT
UID:308@gdcf-duesseldorf.de
DTSTART;TZID=Europe/Berlin:20230806T090000
DTEND;TZID=Europe/Berlin:20230806T090000
DTSTAMP:20230627T153823Z
URL:https://www.gdcf-duesseldorf.de/events/paddeln-2023-08
SUMMARY:Paddeln und Grillen am Niederrhein / 泛舟下莱茵河和烧烤活
 动
DESCRIPTION:
ATTACH;FMTTYPE=image/jpeg:https://www.gdcf-duesseldorf.de/wp-content/uploa
 ds/paddeln.jpg
CATEGORIES:Paddeln
LOCATION:siehe Veranstaltungstext\,  \,  \, Bitte Veranstaltungstext (oben)
  beachten / 请注意(以上)活动详情\, Deutschland
X-APPLE-STRUCTURED-LOCATION;VALUE=URI;X-ADDRESS= \,  \, Bitte Veranstaltung
 stext (oben) beachten / 请注意(以上)活动详情\, Deutschland;X-APPL
 E-RADIUS=100;X-TITLE=siehe Veranstaltungstext:geo:0,0
END:VEVENT
BEGIN:VTIMEZONE
TZID:Europe/Berlin
X-LIC-LOCATION:Europe/Berlin
BEGIN:DAYLIGHT
DTSTART:20230326T030000
TZOFFSETFROM:+0100
TZOFFSETTO:+0200
TZNAME:CEST
END:DAYLIGHT
END:VTIMEZONE
END:VCALENDAR