BEGIN:VCALENDAR
VERSION:2.0
PRODID:-//wp-events-plugin.com//7.2.3.1//EN
TZID:Europe/Berlin
X-WR-TIMEZONE:Europe/Berlin
BEGIN:VEVENT
UID:371@gdcf-duesseldorf.de
DTSTART;TZID=Europe/Berlin:20240927T183000
DTEND;TZID=Europe/Berlin:20240927T183000
DTSTAMP:20240904T203257Z
URL:https://www.gdcf-duesseldorf.de/events/mondfest-2024
SUMMARY:Feier zum chinesischen Mondfest 2024 / 中秋节
DESCRIPTION:
ATTACH;FMTTYPE=image/jpeg:https://www.gdcf-duesseldorf.de/wp-content/uploa
 ds/mondkuchen.jpg
CATEGORIES:Feiern
LOCATION:Chinarestaurant "Hai Xian"\, Bahnstr. 65\, Düsseldorf-Stadtmitte\
 , Bitte Veranstaltungstext (oben) beachten / 请注意(以上)活动详情
 \, 40210\, Deutschland
X-APPLE-STRUCTURED-LOCATION;VALUE=URI;X-ADDRESS=Bahnstr. 65\, Düsseldorf-S
 tadtmitte\, Bitte Veranstaltungstext (oben) beachten / 请注意(以上)
 活动详情\, 40210\, Deutschland;X-APPLE-RADIUS=100;X-TITLE=Chinarestaur
 ant \"Hai Xian\":geo:0,0
END:VEVENT
BEGIN:VTIMEZONE
TZID:Europe/Berlin
X-LIC-LOCATION:Europe/Berlin
BEGIN:DAYLIGHT
DTSTART:20240331T030000
TZOFFSETFROM:+0100
TZOFFSETTO:+0200
TZNAME:CEST
END:DAYLIGHT
END:VTIMEZONE
END:VCALENDAR