BEGIN:VCALENDAR
VERSION:2.0
PRODID:-//wp-events-plugin.com//7.2.3.1//EN
TZID:Europe/Berlin
X-WR-TIMEZONE:Europe/Berlin
BEGIN:VEVENT
UID:163@gdcf-duesseldorf.de
DTSTART;TZID=Europe/Berlin:20220525T190000
DTEND;TZID=Europe/Berlin:20220525T190000
DTSTAMP:20220429T192355Z
URL:https://www.gdcf-duesseldorf.de/events/lesung-2022-05
SUMMARY:Lesung - „Mit dem Drachen tanzen. Leben und Schreiben in China“
DESCRIPTION:
ATTACH;FMTTYPE=image/jpeg:https://www.gdcf-duesseldorf.de/wp-content/uploa
 ds/3d-vortrag-mit-flagge.jpg
CATEGORIES:Konfuzius-Institut Düsseldorf,Literaturkreis,Vortrag
LOCATION:Konfuzius-Institut Düsseldorf\, Graf-Adolf-Str. 63\, Düsseldorf\
 , Bitte Veranstaltungstext (oben) beachten / 请注意(以上)活动详情
 \, 40210\, Deutschland
X-APPLE-STRUCTURED-LOCATION;VALUE=URI;X-ADDRESS=Graf-Adolf-Str. 63\, Düsse
 ldorf\, Bitte Veranstaltungstext (oben) beachten / 请注意(以上)活动
 详情\, 40210\, Deutschland;X-APPLE-RADIUS=100;X-TITLE=Konfuzius-Institut
  Düsseldorf:geo:0,0
END:VEVENT
BEGIN:VTIMEZONE
TZID:Europe/Berlin
X-LIC-LOCATION:Europe/Berlin
BEGIN:DAYLIGHT
DTSTART:20220327T030000
TZOFFSETFROM:+0100
TZOFFSETTO:+0200
TZNAME:CEST
END:DAYLIGHT
END:VTIMEZONE
END:VCALENDAR