BEGIN:VCALENDAR
VERSION:2.0
PRODID:-//wp-events-plugin.com//7.2.3.1//EN
TZID:Europe/Berlin
X-WR-TIMEZONE:Europe/Berlin
BEGIN:VEVENT
UID:374@gdcf-duesseldorf.de
DTSTART;TZID=Europe/Berlin:20241206T190000
DTEND;TZID=Europe/Berlin:20241206T190000
DTSTAMP:20241101T072050Z
URL:https://www.gdcf-duesseldorf.de/events/jahresabschlussessen-2024
SUMMARY:Jahresabschlussessen der GDCF 2024
DESCRIPTION:
ATTACH;FMTTYPE=image/jpeg:https://www.gdcf-duesseldorf.de/wp-content/uploa
 ds/gedeckter-tisch.jpg
CATEGORIES:Essen,Feiern
LOCATION:Chinarestaurant "Koya"\, Herzogstr. 38\, Düsseldorf\, Bitte Veran
 staltungstext (oben) beachten / 请注意(以上)活动详情\, 40215\, De
 utschland
X-APPLE-STRUCTURED-LOCATION;VALUE=URI;X-ADDRESS=Herzogstr. 38\, Düsseldorf
 \, Bitte Veranstaltungstext (oben) beachten / 请注意(以上)活动详
 情\, 40215\, Deutschland;X-APPLE-RADIUS=100;X-TITLE=Chinarestaurant \"Koy
 a\":geo:0,0
END:VEVENT
BEGIN:VTIMEZONE
TZID:Europe/Berlin
X-LIC-LOCATION:Europe/Berlin
BEGIN:STANDARD
DTSTART:20241027T020000
TZOFFSETFROM:+0200
TZOFFSETTO:+0100
TZNAME:CET
END:STANDARD
END:VTIMEZONE
END:VCALENDAR