BEGIN:VCALENDAR
VERSION:2.0
PRODID:-//wp-events-plugin.com//7.2.3.1//EN
TZID:Europe/Berlin
X-WR-TIMEZONE:Europe/Berlin
BEGIN:VEVENT
UID:224@gdcf-duesseldorf.de
DTSTART;TZID=Europe/Berlin:20221209T190000
DTEND;TZID=Europe/Berlin:20221209T190000
DTSTAMP:20221204T115639Z
URL:https://www.gdcf-duesseldorf.de/events/jahresabschlussessen-2022
SUMMARY:Jahresabschlussessen der GDCF 2022
DESCRIPTION:
ATTACH;FMTTYPE=image/jpeg:https://www.gdcf-duesseldorf.de/wp-content/uploa
 ds/gedeckter-tisch.jpg
CATEGORIES:Essen,Feiern
LOCATION:Chinarestaurant "Gourmet Palast"\, Karl-Geusen-Str. 167\, Düsseld
 orf\, Bitte Veranstaltungstext (oben) beachten / 请注意(以上)活动
 详情\, 40231\, Deutschland
X-APPLE-STRUCTURED-LOCATION;VALUE=URI;X-ADDRESS=Karl-Geusen-Str. 167\, Düs
 seldorf\, Bitte Veranstaltungstext (oben) beachten / 请注意(以上)活
 动详情\, 40231\, Deutschland;X-APPLE-RADIUS=100;X-TITLE=Chinarestaurant
  \"Gourmet Palast\":geo:0,0
END:VEVENT
BEGIN:VTIMEZONE
TZID:Europe/Berlin
X-LIC-LOCATION:Europe/Berlin
BEGIN:STANDARD
DTSTART:20221030T020000
TZOFFSETFROM:+0200
TZOFFSETTO:+0100
TZNAME:CET
END:STANDARD
END:VTIMEZONE
END:VCALENDAR