BEGIN:VCALENDAR
VERSION:2.0
PRODID:-//wp-events-plugin.com//7.2.3.1//EN
TZID:Europe/Berlin
X-WR-TIMEZONE:Europe/Berlin
BEGIN:VEVENT
UID:104@gdcf-duesseldorf.de
DTSTART;TZID=Europe/Berlin:20211210T190000
DTEND;TZID=Europe/Berlin:20211210T190000
DTSTAMP:20211218T074053Z
URL:https://www.gdcf-duesseldorf.de/events/jahresabschlussessen-2021
SUMMARY:Jahresabschlussessen der GDCF 2021
DESCRIPTION:
ATTACH;FMTTYPE=image/jpeg:https://www.gdcf-duesseldorf.de/wp-content/uploa
 ds/gedeckter-tisch.jpg
CATEGORIES:Essen,Feiern
LOCATION:Chinarestaurant "Lu Fung"\, Fichtenstr. 8\, Düsseldorf\, Bitte Ve
 ranstaltungstext (oben) beachten / 请注意(以上)活动详情\, 40233\,
  Deutschland
X-APPLE-STRUCTURED-LOCATION;VALUE=URI;X-ADDRESS=Fichtenstr. 8\, Düsseldorf
 \, Bitte Veranstaltungstext (oben) beachten / 请注意(以上)活动详
 情\, 40233\, Deutschland;X-APPLE-RADIUS=100;X-TITLE=Chinarestaurant \"Lu 
 Fung\":geo:0,0
END:VEVENT
BEGIN:VTIMEZONE
TZID:Europe/Berlin
X-LIC-LOCATION:Europe/Berlin
BEGIN:STANDARD
DTSTART:20211031T020000
TZOFFSETFROM:+0200
TZOFFSETTO:+0100
TZNAME:CET
END:STANDARD
END:VTIMEZONE
END:VCALENDAR