BEGIN:VCALENDAR
VERSION:2.0
PRODID:-//wp-events-plugin.com//7.2.3.1//EN
TZID:Europe/Berlin
X-WR-TIMEZONE:Europe/Berlin
BEGIN:VEVENT
UID:65@gdcf-duesseldorf.de
DTSTART;TZID=Europe/Berlin:20211111T180000
DTEND;TZID=Europe/Berlin:20211111T210000
DTSTAMP:20211111T133922Z
URL:https://www.gdcf-duesseldorf.de/events/gdcf-stammtisch-2021-11
SUMMARY:GDCF-Stammtisch / 友谊桥活动 - muss leider ausfallen!
DESCRIPTION:
ATTACH;FMTTYPE=image/jpeg:https://www.gdcf-duesseldorf.de/wp-content/uploa
 ds/3d-essen-mit-flagge.jpg
CATEGORIES:Stammtisch
END:VEVENT
BEGIN:VTIMEZONE
TZID:Europe/Berlin
X-LIC-LOCATION:Europe/Berlin
BEGIN:STANDARD
DTSTART:20211031T020000
TZOFFSETFROM:+0200
TZOFFSETTO:+0100
TZNAME:CET
END:STANDARD
END:VTIMEZONE
END:VCALENDAR