BEGIN:VCALENDAR
VERSION:2.0
PRODID:-//wp-events-plugin.com//7.2.3.1//EN
TZID:Europe/Berlin
X-WR-TIMEZONE:Europe/Berlin
BEGIN:VEVENT
UID:59@gdcf-duesseldorf.de
DTSTART;TZID=Europe/Berlin:20210513T180000
DTEND;TZID=Europe/Berlin:20210513T210000
DTSTAMP:20210319T052512Z
URL:https://www.gdcf-duesseldorf.de/events/gdcf-stammtisch-2021-05
SUMMARY:GDCF-Stammtisch / 友谊桥活动 (via Webex)
DESCRIPTION:
ATTACH;FMTTYPE=image/jpeg:https://www.gdcf-duesseldorf.de/wp-content/uploa
 ds/3d-essen-mit-flagge.jpg
CATEGORIES:Stammtisch
LOCATION:Online-Veranstaltung\, via Webex / 使用 Webex\, www.webex.com\, 
 Bitte Veranstaltungstext (oben) beachten / 请注意(以上)活动详情\,
  Deutschland
X-APPLE-STRUCTURED-LOCATION;VALUE=URI;X-ADDRESS=via Webex / 使用 Webex\, 
 www.webex.com\, Bitte Veranstaltungstext (oben) beachten / 请注意(以
 上)活动详情\, Deutschland;X-APPLE-RADIUS=100;X-TITLE=Online-Veranstal
 tung:geo:0,0
END:VEVENT
BEGIN:VTIMEZONE
TZID:Europe/Berlin
X-LIC-LOCATION:Europe/Berlin
BEGIN:DAYLIGHT
DTSTART:20210328T030000
TZOFFSETFROM:+0100
TZOFFSETTO:+0200
TZNAME:CEST
END:DAYLIGHT
END:VTIMEZONE
END:VCALENDAR