BEGIN:VCALENDAR
VERSION:2.0
PRODID:-//wp-events-plugin.com//7.2.3.1//EN
TZID:Europe/Berlin
X-WR-TIMEZONE:Europe/Berlin
BEGIN:VEVENT
UID:223@gdcf-duesseldorf.de
DTSTART;TZID=Europe/Berlin:20221214T180000
DTEND;TZID=Europe/Berlin:20221214T180000
DTSTAMP:20221123T063541Z
URL:https://www.gdcf-duesseldorf.de/events/gdcf-literaturkreis-2022-12
SUMMARY:GDCF - Arbeitskreis Literatur und Buch
DESCRIPTION:
ATTACH;FMTTYPE=image/jpeg:https://www.gdcf-duesseldorf.de/wp-content/uploa
 ds/literaturkreis-icon.jpg
CATEGORIES:Literaturkreis
LOCATION:VHS Düsseldorf (Bilk) (kostenfrei)\, Raum 2.08\, Mecumstraße 10\
 , Düsseldorf\, 40223\, Deutschland
X-APPLE-STRUCTURED-LOCATION;VALUE=URI;X-ADDRESS=Mecumstraße 10\, Düsseldo
 rf\, 40223\, Deutschland;X-APPLE-RADIUS=100;X-TITLE=VHS Düsseldorf (Bilk)
  (kostenfrei)\, Raum 2.08:geo:0,0
END:VEVENT
BEGIN:VTIMEZONE
TZID:Europe/Berlin
X-LIC-LOCATION:Europe/Berlin
BEGIN:STANDARD
DTSTART:20221030T020000
TZOFFSETFROM:+0200
TZOFFSETTO:+0100
TZNAME:CET
END:STANDARD
END:VTIMEZONE
END:VCALENDAR