BEGIN:VCALENDAR
VERSION:2.0
PRODID:-//wp-events-plugin.com//7.2.3.1//EN
TZID:Europe/Berlin
X-WR-TIMEZONE:Europe/Berlin
BEGIN:VEVENT
UID:78@gdcf-duesseldorf.de
DTSTART;TZID=Europe/Berlin:20210914T173000
DTEND;TZID=Europe/Berlin:20210914T190000
DTSTAMP:20210628T042904Z
URL:https://www.gdcf-duesseldorf.de/events/deutsche-sprachecke-09-1
SUMMARY:Deutsche Sprachecke / 中国人的德语角
DESCRIPTION:
CATEGORIES:Sprachecke
LOCATION:Online-Veranstaltung\, via ZOOM/ 使用 ZOOM\, https://zoom.us/\, 
 Bitte Veranstaltungstext (oben) beachten / 请注意(以上)活动详情\,
  Deutschland
X-APPLE-STRUCTURED-LOCATION;VALUE=URI;X-ADDRESS=via ZOOM/ 使用 ZOOM\, htt
 ps://zoom.us/\, Bitte Veranstaltungstext (oben) beachten / 请注意(以
 上)活动详情\, Deutschland;X-APPLE-RADIUS=100;X-TITLE=Online-Veranstal
 tung:geo:0,0
END:VEVENT
BEGIN:VTIMEZONE
TZID:Europe/Berlin
X-LIC-LOCATION:Europe/Berlin
BEGIN:DAYLIGHT
DTSTART:20210328T030000
TZOFFSETFROM:+0100
TZOFFSETTO:+0200
TZNAME:CEST
END:DAYLIGHT
END:VTIMEZONE
END:VCALENDAR