BEGIN:VCALENDAR
VERSION:2.0
PRODID:-//wp-events-plugin.com//7.2.3.1//EN
TZID:Europe/Berlin
X-WR-TIMEZONE:Europe/Berlin
BEGIN:VEVENT
UID:245@gdcf-duesseldorf.de
DTSTART;TZID=Europe/Berlin:20230129T170000
DTEND;TZID=Europe/Berlin:20230129T170000
DTSTAMP:20230116T180148Z
URL:https://www.gdcf-duesseldorf.de/events/chinesisches-neujahrsessen-2023
SUMMARY:Chinesisches Neujahrsessen 2023 / 2023年中国新年聚餐
DESCRIPTION:
ATTACH;FMTTYPE=image/jpeg:https://www.gdcf-duesseldorf.de/wp-content/uploa
 ds/3d-essen-mit-flagge.jpg
CATEGORIES:Essen,Feiern
LOCATION:Chinarestaurant "Hai Xian"\, Bahnstr. 65\, Düsseldorf-Stadtmitte\
 , Bitte Veranstaltungstext (oben) beachten / 请注意(以上)活动详情
 \, 40210\, Deutschland
X-APPLE-STRUCTURED-LOCATION;VALUE=URI;X-ADDRESS=Bahnstr. 65\, Düsseldorf-S
 tadtmitte\, Bitte Veranstaltungstext (oben) beachten / 请注意(以上)
 活动详情\, 40210\, Deutschland;X-APPLE-RADIUS=100;X-TITLE=Chinarestaur
 ant \"Hai Xian\":geo:0,0
END:VEVENT
BEGIN:VTIMEZONE
TZID:Europe/Berlin
X-LIC-LOCATION:Europe/Berlin
BEGIN:STANDARD
DTSTART:20221030T020000
TZOFFSETFROM:+0200
TZOFFSETTO:+0100
TZNAME:CET
END:STANDARD
END:VTIMEZONE
END:VCALENDAR