BEGIN:VCALENDAR
VERSION:2.0
PRODID:-//wp-events-plugin.com//7.2.3.1//EN
TZID:Europe/Berlin
X-WR-TIMEZONE:Europe/Berlin
BEGIN:VEVENT
UID:285@gdcf-duesseldorf.de
DTSTART;TZID=Europe/Berlin:20230113T183000
DTEND;TZID=Europe/Berlin:20230113T183000
DTSTAMP:20230105T132922Z
URL:https://www.gdcf-duesseldorf.de/events/chinesische-neujahrsgala-2023
SUMMARY:Gemeinsame chinesische Neujahrsgala
DESCRIPTION:
CATEGORIES:Feiern
LOCATION:siehe Veranstaltungstext\,  \,  \, Bitte Veranstaltungstext (oben)
  beachten / 请注意(以上)活动详情\, Deutschland
X-APPLE-STRUCTURED-LOCATION;VALUE=URI;X-ADDRESS= \,  \, Bitte Veranstaltung
 stext (oben) beachten / 请注意(以上)活动详情\, Deutschland;X-APPL
 E-RADIUS=100;X-TITLE=siehe Veranstaltungstext:geo:0,0
END:VEVENT
BEGIN:VTIMEZONE
TZID:Europe/Berlin
X-LIC-LOCATION:Europe/Berlin
BEGIN:STANDARD
DTSTART:20221030T020000
TZOFFSETFROM:+0200
TZOFFSETTO:+0100
TZNAME:CET
END:STANDARD
END:VTIMEZONE
END:VCALENDAR