BEGIN:VCALENDAR
VERSION:2.0
PRODID:-//wp-events-plugin.com//7.2.3.1//EN
TZID:Europe/Berlin
X-WR-TIMEZONE:Europe/Berlin
BEGIN:VEVENT
UID:410@gdcf-duesseldorf.de
DTSTART;TZID=Europe/Berlin:20250909T180000
DTEND;TZID=Europe/Berlin:20250909T193000
DTSTAMP:20250902T044621Z
URL:https://www.gdcf-duesseldorf.de/events/chinesisch-lesen-2025-09
SUMMARY:Chinesisch lesen mit Frau Dr. Su – Eine Sammlung für fortgeschri
 ttene Lernende
DESCRIPTION:
ATTACH;FMTTYPE=image/jpeg:https://www.gdcf-duesseldorf.de/wp-content/uploa
 ds/2025/06/3d-chinesich-lesen.jpg
CATEGORIES:Sprachstammtisch
LOCATION:siehe Veranstaltungstext\,  \,  \, Bitte Veranstaltungstext (oben)
  beachten / 请注意(以上)活动详情\, Deutschland
X-APPLE-STRUCTURED-LOCATION;VALUE=URI;X-ADDRESS= \,  \, Bitte Veranstaltung
 stext (oben) beachten / 请注意(以上)活动详情\, Deutschland;X-APPL
 E-RADIUS=100;X-TITLE=siehe Veranstaltungstext:geo:0,0
END:VEVENT
BEGIN:VTIMEZONE
TZID:Europe/Berlin
X-LIC-LOCATION:Europe/Berlin
BEGIN:DAYLIGHT
DTSTART:20250330T030000
TZOFFSETFROM:+0100
TZOFFSETTO:+0200
TZNAME:CEST
END:DAYLIGHT
END:VTIMEZONE
END:VCALENDAR